BEGIN:VCALENDAR
VERSION:2.0
CALSCALE:GREGORIAN
PRODID:adamgibbons/ics
METHOD:PUBLISH
X-PUBLISHED-TTL:PT1H
BEGIN:VEVENT
UID:215@botep.org
SUMMARY:Voci di carta - Cleo Bissong
DTSTAMP:20260421T142817Z
DTSTART:20260423T170000Z
URL:https://botep.org/event/voci-di-carta-cleo-bissong
GEO:45.6878;9.66126
LOCATION:Lə gattarə - Ritrovo enogattonomico - Via Giosué Carducci 6\, Berg
	amo
STATUS:CONFIRMED
CATEGORIES:presentazione graphic novel
END:VEVENT
END:VCALENDAR
